BEGIN:VCALENDAR
VERSION:2.0
BEGIN:VEVENT
URL:https://theriver.oztix.com.au/outlet/event/c59b0d33-d20d-4a8b-a029-8756ce280c8e
DTSTART:20260514T103000Z
DTEND:20260514T103000Z
SUMMARY:100% Scottish Comedy
DESCRIPTION:Event details: https://theriver.oztix.com.au/outlet/event/c59b0d33-d20d-4a8b-a029-8756ce280c8e
LOCATION:The River (Margaret River, WA)
END:VEVENT
END:VCALENDAR